BEGIN:VCALENDAR
VERSION:2.0
PRODID:-//LiveFree Counseling PLLC - ECPv6.15.20//NONSGML v1.0//EN
CALSCALE:GREGORIAN
METHOD:PUBLISH
X-WR-CALNAME:LiveFree Counseling PLLC
X-ORIGINAL-URL:https://livefreecounseling.com
X-WR-CALDESC:Events for LiveFree Counseling PLLC
REFRESH-INTERVAL;VALUE=DURATION:PT1H
X-Robots-Tag:noindex
X-PUBLISHED-TTL:PT1H
BEGIN:VTIMEZONE
TZID:UTC
BEGIN:STANDARD
TZOFFSETFROM:+0000
TZOFFSETTO:+0000
TZNAME:UTC
DTSTART:20170101T000000
END:STANDARD
END:VTIMEZONE
BEGIN:VEVENT
DTSTART;TZID=UTC:20180113T080000
DTEND;TZID=UTC:20180113T170000
DTSTAMP:20260423T162423
CREATED:20200518T105651Z
LAST-MODIFIED:20200518T105749Z
UID:2318-1515830400-1515862800@livefreecounseling.com
SUMMARY:Speaking Engagement: Nathaniel Gustafson\, MDiv
DESCRIPTION:Topic: Introduction to Porn Addiction\nDescription: An overview of how pornography impacts an individual\, their family and community.\nLocation: Ridgeline Community Church\, Castle Rock
URL:https://livefreecounseling.com/event/speaking-engagement-nathaniel-gustafson-mdiv-2/
LOCATION:Ridgeline Community Church\, 555 Heritage Ave\, Castle Rock\, CO\, 80104\, United States
ATTACH;FMTTYPE=image/jpeg:https://livefreecounseling.com/wp-content/uploads/2018/05/Nathaniel.jpg
END:VEVENT
END:VCALENDAR